BEGIN:VCALENDAR
VERSION:2.0
PRODID:UON Tennis Club
CALSCALE:GREGORIAN
BEGIN:VEVENT
DTSTAMP:20190228T115710Z
UID:88c2b590-4a5f-4bf8-b942-8b2679f6177f
DTSTART:20170312T020000Z
DTEND:20170521T050000Z
DESCRIPTION:This one goes out to the low-key social swingers\, and those co
 mpetitive bunnies who want to get in some solid pre-match training. Sunday 
 Social is a perfect opportunity to supersize your skills before Monday Nigh
 t Comp\, or just have a quiet game with a friend or even someone new. Pre-r
 equisites are zero stress\, smiles and sunscreen. And a bottle of water if 
 a solid face palm by the temperamental bubbler isn’t your cup of tea.\n\nSu
 nday Social runs on all semester Sundays that don't have alternate events s
 cheduled\, with a free BBQ on the first Sunday of every month. All you need
  is a $10 social membership for free hits all semester!\n\nDates for semest
 er 1:\n\nMarch 5 (BBQ)\n\nMarch 12\n\nMarch 19\n\nMarch 26\n\nApril 2 (BBQ)
 \n\nApril 9\n\nApril 23\n\nMay 7 (BBQ)\n\nMay 14\n\nMay 21\n
LOCATION:Lambton Rd &amp\; Curley Rd\, Broadmeadow\, NSW
SUMMARY:Sunday Social
URL:http://uontennisclub.org.au/public/events/9519-sunday-social
END:VEVENT
END:VCALENDAR
