BEGIN:VCALENDAR
VERSION:2.0
PRODID:UON Tennis Club
CALSCALE:GREGORIAN
BEGIN:VEVENT
DTSTAMP:20190228T120048Z
UID:cd8335e5-77e7-4dbc-b4a3-05ed4f9a014d
DTSTART:20170305T020000Z
DTEND:20170305T040000Z
DESCRIPTION:Our first Sunday Social for the year is a special one: its Sund
 ay Social XXL. Fun games and drills\, group hits\, single hits\, no hits\, 
 free food and drinks\; this is your oyster Kilpatrick with extra bacon.\n\n
 Worried about being the big newbie loner? Feels. So bring a friend for free
 ! Or just be bold and step out in your Sunday best to make some new friends
 . We guarantee you won’t be the only one feeling like a fish out of water\,
  and we aim to make sure that it won’t last for long!\n\nThis day is low ke
 y and fun. Yays include\; social tennis\, tunes\, friends and free BBQ. Nay
 s include\; there are none so get up\, dress up and show up!\n\nP.S. We are
  running Sunday Social at the new time of 1pm-3pm this year so we can maxim
 ise our courts!\n
LOCATION:Lambton Rd &amp\; Curley Rd\, Broadmeadow\, NSW
SUMMARY:Inaugural Sunday Social
URL:http://uontennisclub.org.au/public/events/9514-inaugural-sunday-social
END:VEVENT
END:VCALENDAR
