BEGIN:VCALENDAR
VERSION:2.0
PRODID:UON Tennis Club
CALSCALE:GREGORIAN
BEGIN:VEVENT
DTSTAMP:20190228T115945Z
UID:9090ca15-a6fe-47fe-a04b-13b37a57a19b
DTSTART:20170308T080000Z
DTEND:20170308T133000Z
DESCRIPTION:A pub crawl for the ‘Players’. Obviously our focus is tennis so
  we want to see plenty of ‘shots’ served with a slice of Fed’s finesse. Be 
 brave\, go for your shots and remember your training\, it will come in hand
 y on the dance floor. Theme is Wimbledon Whites\, this is how we know the w
 ho’s who of the pub scene and can keep the team together.\n\nBoys go for Ra
 fa\, Feds or Berdych. Ladies\; Sharapova or Serena if your serious about yo
 ur twerks. Just any old white rag will also do if you are in the neighbourh
 ood\, feel like a bev and don’t have time to go the whole shebang.\n\nWE AR
 E KICKING OFF FROM THE ORIENTAL PUB AT 7.00 PM AND WILL BE THERE UNTIL AROU
 ND 8\, PELASE CHECK THE FACEBOOK PAGE FOR A FULL SCHEDULE\n
LOCATION:
SUMMARY:Wednesday Night Wimbledon Whites
URL:http://uontennisclub.org.au/public/events/9512-wednesday-night-wimbledo
 n-whites
END:VEVENT
END:VCALENDAR
