BEGIN:VCALENDAR
VERSION:2.0
PRODID:UON Tennis Club
CALSCALE:GREGORIAN
BEGIN:VEVENT
DTSTAMP:20190228T120015Z
UID:a1e9957e-6ad1-499d-8ebe-75cbf5e8fd4d
DTSTART:20170306T084500Z
DTEND:20170306T103000Z
DESCRIPTION:*Dates have been updated since the wash-out on February 27th*\n
 \nIntersted in playing in our Monday Night Comp? Then you had better sign u
 p for our trial night!\n\nThere will be two trial nights in 2017:\n\n- Tria
 l 1: Monday 6th of March (All new players)\n\n- Trial 2: Monday 13th of Mar
 ch (All new and past players)\n\nThese nights are free and are a great way 
 to meet some of the other club members. They are also a useful way to gauge
  which division of the competition players are best suited to.\n\nAll new c
 lub members who are interested in playing in the Monday Night Competition n
 eed to attend grading (to make sure we get the divisions right)\, so if you
 're considering it\, make sure to sign up!\n
LOCATION:Lambton Rd &amp\; Curley Rd\, Broadmeadow\, NSW
SUMMARY:Trial Night - Monday Night Comp
URL:http://uontennisclub.org.au/public/events/9488-trial-night-monday-night
 -comp
END:VEVENT
END:VCALENDAR
