BEGIN:VCALENDAR
VERSION:2.0
PRODID:UON Tennis Club
CALSCALE:GREGORIAN
BEGIN:VEVENT
DTSTAMP:20190228T115741Z
UID:5c88f329-67ac-44cd-abc7-a65c2cd2187f
DTSTART:20170429T010000Z
DTEND:20170429T040000Z
DESCRIPTION:* Event to be played on Saturday the 29th of April (NOT Sunday 
 as Topspin booked an additional tournament for Sunday). Sorry for any incon
 venience! *\n\nOur first Social Doubles Day for the year is coming up! This
  event is as social as they come\, there is no limitation on who you can br
 ing along to play with... your mum\, your pet lizard... Roger Federer... Ju
 st grab someone who wants to have a bit of fun and come along! All girls or
  all boys teams are very welcome\, as are mixed doubles teams\; whoever you
  happen to have lying around... we would love to have them!\n\nThe day will
  consist of a round robin of doubles matches\, with handicap systems in pla
 ce to ensure complete fairness and maximum fun\, and there will be PRIZES t
 o be won\, not only for the tennis\, but for the COOLEST COSTUMES! Last yea
 r we had some Togas\, a SpongeBob\, Steve and the crocodile\, a couple of t
 ennis balls\, Kim and Kanye put in an appearance\, and many more and we wan
 t to continue the ridiculous trend so put your thinking hats on! \n\nWe LOV
 E non-tennis playing competitors for this event\, and with the handicap sys
 tem in place everyone should have the same chance of having a good hit no m
 atter who you bring (even your pet lizard!) \n\nThe $10 entry fee will get 
 you three hours of tennis\, FREE FOOD of course\, and possibly some pretty 
 cool prizes depending on how much creativity you pour into your costumes! (
 There is no theme at all\, you can do whatever takes your fancy)\n\nIf you 
 are available on April 30th\, PLEASE SIGN UP ASAP! The sooner we know numbe
 rs the better we can make the day! If you are a fence sitter\, just put you
 r name down! It will be really fun and there will be lots of people who don
 't know many people there but the point of the day is to make some new frie
 nds and just have a good time so please take the chance! We are very happy 
 to match anyone up who doesn't have a doubles partner lined up\, just let u
 s know!\n\nEach individual from each team needs to sign up online and get a
  ticket\, (this will include for those who are not social members the $10 m
 embership fee).\n\nAny questions or concerns please feel free to email the 
 club: uontclub@gmail.com. This event is open to ALL SOCIAL MEMBERS and you 
 can bring a non-member along too! We would love to see you there!\n\n \n
LOCATION:Topspin Tennis Broadmeadow - Lambton Road &amp\; Curley Road Broad
 meadow\, 2292
SUMMARY:Social Doubles Day
URL:http://uontennisclub.org.au/public/events/12960-social-doubles-day
END:VEVENT
END:VCALENDAR
