BEGIN:VCALENDAR
VERSION:2.0
PRODID:UON Tennis Club
CALSCALE:GREGORIAN
BEGIN:VEVENT
DTSTAMP:20190228T115843Z
UID:844dbae1-09b2-43b9-a14e-d6eb0db62498
DTSTART:20170320T084500Z
DTEND:20170320T110000Z
DESCRIPTION:Registration - Final Round of Tickets \n\n \n\nSign Up Requirem
 ents:\n\nHope everyone is excited about the Monday Night Social Comp! This 
 is the second and final round of Monday Night Social Competition registrati
 on. This is open to ALL players who have done at least one of the following
 :\n\n \n\n- Attended Trial Night 1\n\nor\n\n- Attended Trial Night 2 (with 
 correct or incorrect sign-up)\n\nor\n\n- Been a previous member of the UON 
 Tennis Club\n\n \n\nWe have expanded our competition this year to accommoda
 te 112 Players and 89 positions have already been filled after the first re
 lease. Over 50 tickets were sold in the first hour so to all those that are
  now eligible\, we recommend registering quickly to make sure you don't mis
 s out! All competition players are required to be 2017 members\, so you wil
 l also need to purchase your $10 yearly membership prior to competition reg
 istration.\n\n \n\nIf the competition fills\, a free waiting list will be m
 ade available. This will fill any spots which become available. Please keep
  in mind\, if you have not been trialled at all and you have not been a pas
 t member\, you are still ineligible for the comp and any payment received w
 ill be subsequently refunded.\n\n \n\nQuick Social Comp facts:\n\n- 7:45pm 
 each Monday night\n\n- This is a team’s event\, two players per team (don't
  worry we pick your partner for you based on the grading results)\n\n- Each
  player will play one singles match and one doubles (just like the Hopman C
 up).\n\n- Lots of divisions with varying skill levels\n\n- Your registratio
 n fee covers the entire semester\n\n- If you can't play one week\, make sur
 e to let us know before 5pm the Sunday prior and we will find you a sub\n\n
 - Its heaps of fun\, a great way to meet new people and you can even win yo
 urself a trophy\n\n- First week of the fixture is the 20th of March. We pla
 y each week (barring public and university holidays)\, with the Grand Final
  being held in week 13 (the week before the official examination period).\n
 \nThere are 112 spots available and once we are full\, that's it! Make sure
  to get in quick. If you have any issues or you would like more information
 \, please don't hesitate to contact us.\n
LOCATION:Lambton Rd &amp\; Curley Rd\, Broadmeadow\, NSW
SUMMARY:Monday Night Social Competition - Semester 1 Registration (Final Ti
 cket Release)
URL:http://uontennisclub.org.au/public/events/12345-monday-night-social-com
 petition-semester-1-registration-final-ticket-release
END:VEVENT
END:VCALENDAR
