BEGIN:VCALENDAR
VERSION:2.0
PRODID:UON Tennis Club
CALSCALE:GREGORIAN
BEGIN:VEVENT
DTSTAMP:20190228T115914Z
UID:74ead657-6420-4195-a462-6ebea54bad77
DTSTART:20170313T083000Z
DTEND:20170313T110000Z
DESCRIPTION:This is for ALL players who intend to play in the Monday Night 
 Social Competition. Attendence is compulsory. If you are unable to attend  
 but wish to play comp\, you must contact the club via email ASAP (although 
 we can not guarantee that we will still be able to provide you a spot in th
 e competition).\n\nTICKETS CLOSE 5pm Sunday 12th of March\n\n \n\nThis Mond
 ay night (13th of March)\, we will hold our second and final grading night 
 for the Semester 1 Social Competition. It will be a little different to the
  first trial night as it will involve round robin match-play\, rather than 
 just hitting. The aim of the night is to make sure that players are placed 
 into the correct divisions for the Monday Night Social Comp. This night is 
 for ALL people who intend to play comp this semester\; so both NEW and PAST
  members must attend. \n\nAs per last week\, there will be a free BBQ and s
 ome tunes to enjoy for when players have a break in their match schedule. I
 f you have no intention of playing comp this semester\, we ask that you don
 't attend this trial night. We had 72 new members trial last Monday so it's
  sure to be a great comp this semester!\n\nCompetition sign-ups will open a
 t 5pm on Tuesday the 14th of March and only those that have attended the se
 cond trial night will be elegible to register. With 96 spots to offer\, it'
 s sure to fill up quickly so make sure to secure your spot as soon as it op
 ens!\n\nHope to see you all on Monday night (click attending to grab your f
 ree ticket). If you want to make the process easier\, you can register for 
 2017 Social Membership now for just $10.\n\nPS Don't forget about our Pub C
 rawl on Wednesday the 8th of March!\n\n \n
LOCATION:Corner of Curley and Lambton Road\, Broadmeadow\, NSW
SUMMARY:Trial Night 2 - ALL Comp Players - Monday Night Social Competition
URL:http://uontennisclub.org.au/public/events/12132-trial-night-2-all-comp-
 players-monday-night-social-competition
END:VEVENT
END:VCALENDAR
