BEGIN:VCALENDAR
VERSION:2.0
PRODID:UON Tennis Club
CALSCALE:GREGORIAN
BEGIN:VEVENT
DTSTAMP:20190228T111555Z
UID:5a5f15e8-e71f-42c8-b307-2f3b15ef218e
DTSTART:20170423T000000Z
DTEND:20170423T060000Z
DESCRIPTION:Interclub Challenge Days\n\nTime to put our mighty club to the 
 test!\n\nIn the Newcastle region\, there is little opportunity to challenge
  your tennis club against another. Local competitive tennis is restricted t
 o intra-club fixtures and tournaments. The UON Tennis Club is hoping to cre
 ate a regular\, friendly competition between local clubs to help strengthen
  relationships between tennis players in the Newcastle and Hunter region. C
 ompetition of this nature will not only assist in the growth of the local t
 ennis community\, but it will also act as an avenue for player development.
 \n\nThroughout 2017\, the UON Tennis Club will participate in a number of “
 Interclub Challenge Days” which will involve small teams from our club\, pl
 aying a series of matches against other local clubs. The exact format and t
 eam numbers will depend on our opposition\, but we will be expecting to hav
 e teams of 10-15 players for each event. There will be singles and doubles 
 for each Challenge Day and the team which wins the most sets throughout the
  day will claim victory.\n\nPlayers of all skill levels are welcome. Althou
 gh no dates are set as of yet\, when they are confirmed we will be asking f
 or registrations here\, so keep your eye out for schedule updates throughou
 t the year!\n
LOCATION:Unknown
SUMMARY:Interclub Challenge Days
URL:http://uontennisclub.org.au/public/events/11511-interclub-challenge-day
 s
END:VEVENT
END:VCALENDAR
